BEGIN:VCALENDAR
VERSION:2.0
PRODID:-//Zauberflöten - ECPv6.15.3//NONSGML v1.0//EN
CALSCALE:GREGORIAN
METHOD:PUBLISH
X-WR-CALNAME:Zauberflöten
X-ORIGINAL-URL:https://www.zauberfloeten.de
X-WR-CALDESC:Veranstaltungen für Zauberflöten
REFRESH-INTERVAL;VALUE=DURATION:PT1H
X-Robots-Tag:noindex
X-PUBLISHED-TTL:PT1H
BEGIN:VTIMEZONE
TZID:UTC
BEGIN:STANDARD
TZOFFSETFROM:+0000
TZOFFSETTO:+0000
TZNAME:UTC
DTSTART:20260101T000000
END:STANDARD
END:VTIMEZONE
BEGIN:VEVENT
DTSTART;TZID=UTC:20260308T180000
DTEND;TZID=UTC:20260308T210000
DTSTAMP:20260421T082956
CREATED:20260124T133857Z
LAST-MODIFIED:20260124T133857Z
UID:1478-1772992800-1773003600@www.zauberfloeten.de
SUMMARY:👑 Konzertabend auf Schloss Burg Namedy
DESCRIPTION:Holdes Burgfräulein\, gewährst du uns Einlass? \nWir haben die Ehre euch in die zauberhaften Hallen von Schloss Burg Namedy zu entführen! \nMit zwei mal 45 Minuten voller Harmonien\, die selbst die dicksten Burgmauern zum Schwingen bringen\, werden wir die altehrwürdigen Steine mit unserem Gesang zum Erstrahlen bringen. \nOb rittermäßige Balladen\, moderne Chorhits oder zauberhafte Melodien – wir servieren euch ein Programm\, das nicht nur die Burggeister begeistert\, sondern auch eure Herzen erobert. Und keine Sorge: Wir kommen nicht mit Schwertern\, sondern mit Stimmen\, die jeden Drachen besänftigen! \n  \n📍Schloss Burg Namedy\, 56626 Andernach \n⏰ Sonntag\, 08.03.2026\, 18 Uhr \n💰 34€ / 29€ / 24€ – Tickets unter Tel. 02601 9139900 oder andreas-arenz@web.de
URL:https://www.zauberfloeten.de/termin/%f0%9f%91%91-konzertabend-auf-schloss-burg-namedy/
LOCATION:Schloss Burg Namedy\, Schloss Burg Namdy\, Andernach\, 56626
END:VEVENT
END:VCALENDAR